BEGIN:VCALENDAR
VERSION:2.0
PRODID:spatie/icalendar-generator
DESCRIPTION:Veranstaltungen von Freie Aktive Schule Karlsruhe e.V.
X-WR-CALDESC:Veranstaltungen von Freie Aktive Schule Karlsruhe e.V.
REFRESH-INTERVAL;VALUE=DURATION:PT1440M
X-PUBLISHED-TTL:PT1440M
BEGIN:VTIMEZONE
TZID:Europe/Berlin
BEGIN:STANDARD
DTSTART:20191027T030000Z
TZOFFSETFROM:+0200
TZOFFSETTO:+0100
END:STANDARD
BEGIN:DAYLIGHT
DTSTART:20200329T020000Z
TZOFFSETFROM:+0100
TZOFFSETTO:+0200
END:DAYLIGHT
BEGIN:STANDARD
DTSTART:20201025T030000Z
TZOFFSETFROM:+0200
TZOFFSETTO:+0100
END:STANDARD
END:VTIMEZONE
BEGIN:VTIMEZONE
TZID:UTC
BEGIN:STANDARD
DTSTART:20250724T091333Z
TZOFFSETFROM:+0000
TZOFFSETTO:+0000
END:STANDARD
END:VTIMEZONE
BEGIN:VEVENT
UID:25-25
DTSTAMP:20260420T091333Z
SUMMARY:Schule: beweglicher Ferientag
LOCATION:
ORGANIZER;CN=Nora:MAILTO:n.sipply@posteo.de
DTSTART;TZID=Europe/Berlin;VALUE=DATE:20200522
DTEND;TZID=Europe/Berlin;VALUE=DATE:20200523
X-ALT-DESC;FMTTYPE=TEXT/HTML:An diesem Tag bleibt die Freie Aktive Schule g
 eschlossen.
CATEGORIES:Schule
URL;VALUE=URI:https://faska.de/termine/schule-beweglicher-ferientag-2/
METHOD:PUBLISH
END:VEVENT
END:VCALENDAR