BEGIN:VCALENDAR
VERSION:2.0
PRODID:spatie/icalendar-generator
DESCRIPTION:Veranstaltungen von Freie Aktive Schule Karlsruhe e.V.
X-WR-CALDESC:Veranstaltungen von Freie Aktive Schule Karlsruhe e.V.
REFRESH-INTERVAL;VALUE=DURATION:PT1440M
X-PUBLISHED-TTL:PT1440M
BEGIN:VTIMEZONE
TZID:Europe/Berlin
BEGIN:DAYLIGHT
DTSTART:20200329T020000Z
TZOFFSETFROM:+0100
TZOFFSETTO:+0200
END:DAYLIGHT
BEGIN:STANDARD
DTSTART:20201025T030000Z
TZOFFSETFROM:+0200
TZOFFSETTO:+0100
END:STANDARD
END:VTIMEZONE
BEGIN:VTIMEZONE
TZID:UTC
BEGIN:STANDARD
DTSTART:20250727T092526Z
TZOFFSETFROM:+0000
TZOFFSETTO:+0000
END:STANDARD
END:VTIMEZONE
BEGIN:VEVENT
UID:27-27
DTSTAMP:20260423T092526Z
SUMMARY:Schule: Sommerferien
LOCATION:
ORGANIZER;CN=Nora:MAILTO:n.sipply@posteo.de
DTSTART;TZID=Europe/Berlin;VALUE=DATE:20200730
DTEND;TZID=Europe/Berlin;VALUE=DATE:20200912
X-ALT-DESC;FMTTYPE=TEXT/HTML:
CATEGORIES:Schule
URL;VALUE=URI:https://faska.de/termine/schule-sommerferien/
METHOD:PUBLISH
END:VEVENT
END:VCALENDAR