BEGIN:VCALENDAR
VERSION:2.0
PRODID:spatie/icalendar-generator
DESCRIPTION:Veranstaltungen von Freie Aktive Schule Karlsruhe e.V.
X-WR-CALDESC:Veranstaltungen von Freie Aktive Schule Karlsruhe e.V.
REFRESH-INTERVAL;VALUE=DURATION:PT1440M
X-PUBLISHED-TTL:PT1440M
BEGIN:VTIMEZONE
TZID:Europe/Berlin
BEGIN:DAYLIGHT
DTSTART:20190331T020000Z
TZOFFSETFROM:+0100
TZOFFSETTO:+0200
END:DAYLIGHT
BEGIN:STANDARD
DTSTART:20191027T030000Z
TZOFFSETFROM:+0200
TZOFFSETTO:+0100
END:STANDARD
END:VTIMEZONE
BEGIN:VTIMEZONE
TZID:UTC
BEGIN:STANDARD
DTSTART:20250730T015807Z
TZOFFSETFROM:+0000
TZOFFSETTO:+0000
END:STANDARD
END:VTIMEZONE
BEGIN:VEVENT
UID:8-8
DTSTAMP:20260426T015807Z
SUMMARY:Das Ökomobil besucht die Schule
LOCATION:Ehemalige FASKA Erzbergerstr. 131  Karlsruhe  76149
ORGANIZER;CN=faskaadmin:MAILTO:it@faska.de
DTSTART;TZID=Europe/Berlin;VALUE=DATE:20190924
DTEND;TZID=Europe/Berlin;VALUE=DATE:20190925
X-ALT-DESC;FMTTYPE=TEXT/HTML:
CATEGORIES:Schule
URL;VALUE=URI:https://faska.de/termine/das-oekomobil-besucht-die-schule/
METHOD:PUBLISH
END:VEVENT
END:VCALENDAR